BEGIN:VCALENDAR
VERSION:2.0
PRODID:-//eventon.com NONSGML v1.0//EN
CALSCALE:GREGORIAN
METHOD:PUBLISH
BEGIN:VEVENT
UID:69e751f7904d8
DTSTAMP:20260421T103119Z
DTSTART:20191020T223000Z
DTEND:20191020T235000Z
LOCATION:CAFE BAR ΘΕΑ/TRO
SUMMARY:Πάρτι 54ων Δημητρίων
DESCRIPTION:Αμέσως μετά την χορευτική παράστα
 η Kalakuta Republik που θα απολαύσουμε στο Θέατρ
  Εταιρείας Μακεδονικών Σπουδών σας περι
 ένουμε απέναντι\,  στην ταράτσα του Βασιλ
 ικού Θεάτρου\,  στο Cafe Bar ΘΕΑ/TRO\,  για το απο
 χαιρετιστήριο πάρτι του 54ου Φεστιβάλ Δημ
 ητρίων. Στο closing party που σηματοδοτεί το τέ
 ος του κοσμοπολίτικου πολιτιστικού ραντ
 εβού\,  συναντιόμαστε\,  διασκεδάζουμε\,  α
 ανεώνουμε το[..]\nhttps://dimitria.thessaloniki.gr/events/party
 -%ce%bb%ce%b7%ce%be%ce%b7%cf%83-54%cf%89%ce%bd-%ce%b4%ce%b7%ce%bc%ce%b7%cf%
 84%cf%81%ce%af%cf%89%ce%bd/
URL:https://dimitria.thessaloniki.gr/events/party-%ce%bb%ce%b7%ce%be%ce%b7%cf%83-54%cf%89%ce%bd-%ce%b4%ce%b7%ce%bc%ce%b7%cf%84%cf%81%ce%af%cf%89%ce%bd/
END:VEVENT
END:VCALENDAR