BEGIN:VCALENDAR
VERSION:2.0
PRODID:-//eventon.com NONSGML v1.0//EN
CALSCALE:GREGORIAN
METHOD:PUBLISH
BEGIN:VEVENT
UID:69e5b480e291d
DTSTAMP:20260420T050712Z
DTSTART:20191016T210000Z
DTEND:20191016T235000Z
LOCATION:ΑΠΟΘΗΚΗ Δ’ ΛΙΜΑΝΙ ΘΕΣΣΑΛΟΝΙΚΗΣ
SUMMARY:Soundscapes Compositions
DESCRIPTION:Στο πλαίσιο του ευρωπαϊκού διαθεμ
 τικού προγράμματος «INTERFACES» που συντονίζ
 ει η Στέγη του Ιδρύματος Ωνάση για την αν
 πτυξη του κοινού της σύγχρονης μουσικής 
 στην Ευρώπη\,  oι ευρηματικοί Θεσσαλονικε
 ς dissonArt ensemble θα παρουσιάσουν σε μια απρόσ
 μενη συναυλία 8 νέες συνθέσεις εμπνευσμέ
 ες από οκτώ αξιοθέατα της πόλης: τον Λευκ
 ό Πύργο\,  την Πλατεία Ναβαρίνου\, [..]\nhttps://d
 imitria.thessaloniki.gr/events/%cf%83%cf%85%ce%bd%ce%b1%cf%85%ce%bb%ce%af%c
 e%b1-dissonart/
URL:https://dimitria.thessaloniki.gr/events/%cf%83%cf%85%ce%bd%ce%b1%cf%85%ce%bb%ce%af%ce%b1-dissonart/
END:VEVENT
END:VCALENDAR