BEGIN:VCALENDAR
VERSION:2.0
PRODID:-//eventon.com NONSGML v1.0//EN
CALSCALE:GREGORIAN
METHOD:PUBLISH
BEGIN:VEVENT
UID:69e4cebd27a57
DTSTAMP:20260419T124653Z
DTSTART:20191015T210000Z
DTEND:20191015T235000Z
LOCATION:ΜΕΓΑΡΟ ΜΟΥΣΙΚΗΣ ΘΕΣΣΑΛΟΝΙΚΗΣ 2 ΑΙΘΟΥΣΑ «ΑΙΜΙΛΙΟΣ ΡΙΑΔΗΣ»
SUMMARY:Συναυλία jazz fusion
DESCRIPTION:Ζωντανός θρύλος της ελληνικής σκη
 ής με διεθνές εκτόπισμα\,  ο Κυριάκος Σφέ
 σας συνέθεσε συμφωνική μουσική\,  έργα γι
 α τον κινηματογράφο και το θέατρο\,  το μπ
 λέτο\,  για σύνολα δωματίου και σόλο όργα
 α\,  ηλεκτρονική μουσική και τζαζ. Δημιού
 γησε την Greek Fusion Orchestra το 1976\,  ένα χρόνο με
 τά την επιστροφή του από την Γαλλία στην[.
 .]\nhttps://dimitria.thessaloniki.gr/events/greek-fusion-orchestra-gfo/
URL:https://dimitria.thessaloniki.gr/events/greek-fusion-orchestra-gfo/
END:VEVENT
END:VCALENDAR