BEGIN:VCALENDAR
VERSION:2.0
PRODID:-//eventon.com NONSGML v1.0//EN
CALSCALE:GREGORIAN
METHOD:PUBLISH
BEGIN:VEVENT
UID:69e4ce9db8373
DTSTAMP:20260419T124621Z
DTSTART:20191014T210000Z
DTEND:20191014T235000Z
LOCATION:ΑΠΟΘΗΚΗ Δ’ ΛΙΜΑΝΙ ΘΕΣΣΑΛΟΝΙΚΗΣ
SUMMARY:Fin’amor
DESCRIPTION:Fin’Amor είναι μεσαιωνική έκφραση πο
  χρησιμοποιήθηκε απο τους τροβαδούρους 
 ου 12ου και 13ου αιώνα και δηλώνει τον ιδαν
 ικό\,  τον τέλειο έρωτα.  Η έννοια αυτή σημ
 αίνει διαρκής πόθος και αναζήτηση του απ
 λυτου\,  κάτι εξ ορισμού άπιαστο\,  ουτοπι
 ό. H Lamia Bedioui και ο Σόλης Μπαρκή μας μεταφέ
 ουν το σφυγμό της Γης\,  σε[..]\nhttps://dimitria.thess
 aloniki.gr/events/lamia-bedioui-solis-barki/
URL:https://dimitria.thessaloniki.gr/events/lamia-bedioui-solis-barki/
END:VEVENT
END:VCALENDAR