BEGIN:VCALENDAR
VERSION:2.0
PRODID:-//eventon.com NONSGML v1.0//EN
CALSCALE:GREGORIAN
METHOD:PUBLISH
BEGIN:VEVENT
UID:69e75220dfb64
DTSTAMP:20260421T103200Z
DTSTART:20191013T130000Z
DTEND:20191013T235000Z
LOCATION:ΠΛΑΤΕΙΑ AΘΩΝΟΣ
SUMMARY:Συναυλία παραδοσιακής Ιταλικής μουσικής
DESCRIPTION:Ο πολιτιστικός οργανισμός Furclap\,  α
 ό το Ούντινε της Ιταλίας\,  δίνει το παρών
  στα φετινά Δημήτρια\,  με μια συναυλία επ
 μελημένη από τον καλλιτεχνικό διευθυντή
  του φεστιβάλ Canto Spontaneo\,  Giovanni Floreani. Μαζί τ
 υ\,  δύο σημαντικοί μουσικοί της περιοχής
  Friuli Venezia Giulia\,  οι Gianfranco Lugano και Evaristo Casonato. 
 Η συναυλία περιλαμβάνει ένα ρεπερτόριο[..
 ]\nhttps://dimitria.thessaloniki.gr/events/%cf%83%cf%85%ce%bd%ce%b1%cf%85%c
 e%bb%ce%af%ce%b1-%cf%80%ce%b1%cf%81%ce%b1%ce%b4%ce%bf%cf%83%ce%b9%ce%b1%ce%
 ba%ce%ae%cf%82-%ce%b9%cf%84%ce%b1%ce%bb%ce%b9%ce%ba%ce%ae%cf%82-%ce%bc%ce%b
 f%cf%85%cf%83/
URL:https://dimitria.thessaloniki.gr/events/%cf%83%cf%85%ce%bd%ce%b1%cf%85%ce%bb%ce%af%ce%b1-%cf%80%ce%b1%cf%81%ce%b1%ce%b4%ce%bf%cf%83%ce%b9%ce%b1%ce%ba%ce%ae%cf%82-%ce%b9%cf%84%ce%b1%ce%bb%ce%b9%ce%ba%ce%ae%cf%82-%ce%bc%ce%bf%cf%85%cf%83/
END:VEVENT
END:VCALENDAR