BEGIN:VCALENDAR
VERSION:2.0
PRODID:-//eventon.com NONSGML v1.0//EN
CALSCALE:GREGORIAN
METHOD:PUBLISH
BEGIN:VEVENT
UID:69e751f791d9a
DTSTAMP:20260421T103119Z
DTSTART:20190928T170000Z
DTEND:20190928T235000Z
LOCATION:ΛΕΥΚΟΣ ΠΥΡΓΟΣ
SUMMARY:Έναρξη 54ων Δημητρίων
DESCRIPTION:Η ιστορία της Θεσσαλονίκης μέσα απ
 ό την ιστορία του Λευκού Πύργου. Η ιστορί
  του Λευκού Πύργου μέσα από την ιστορία τ
 ης Θεσσαλονίκης. Το απόλυτο σύμβολο της π
 όλης\,  ο Λευκός Πύργος\,  θα αφηγηθεί τις ι
 στορίες του στην εναρκτήρια εκδήλωση των
  φετινών 54ων Δημητρίων\,  συνεχίζοντας το
  αέναο διάλογο με τη Θεσσαλονίκη\,  ανά[..]\
 nhttps://dimitria.thessaloniki.gr/events/%ce%ad%ce%bd%ce%b1%cf%81%ce%be%ce%
 b7-54%cf%89%ce%bd-%ce%b4%ce%b7%ce%bc%ce%b7%cf%84%cf%81%ce%af%cf%89%ce%bd/
URL:https://dimitria.thessaloniki.gr/events/%ce%ad%ce%bd%ce%b1%cf%81%ce%be%ce%b7-54%cf%89%ce%bd-%ce%b4%ce%b7%ce%bc%ce%b7%cf%84%cf%81%ce%af%cf%89%ce%bd/
END:VEVENT
END:VCALENDAR