BEGIN:VCALENDAR
VERSION:2.0
PRODID:-//eventon.com NONSGML v1.0//EN
CALSCALE:GREGORIAN
METHOD:PUBLISH
BEGIN:VEVENT
UID:69e6da2c6d144
DTSTAMP:20260421T020012Z
DTSTART:20170923T200000Z
DTEND:20171231T220000Z
LOCATION:ΔΙΑΦΟΡΟΙ ΧΩΡΟΙ
SUMMARY:ΚΟΙΝΟΙ  ΙΕΡΟΙ ΤΟΠΟΙ
DESCRIPTION:Όμοια με το παρελθόν και σύμφωνα μ
  την πρακτική αιώνων\,  έτσι και σήμερα πο
 λλοί Χριστιανοί\,  Μουσουλμάνοι και Εβραί
 οι προσεύχονται σε ιερά που ανήκουν σε μι
 αν άλλη θρησκεία. Ποιες οι αλληλεπιδράσε
 ς και με ποιους τρόπους αφήνουν τα ίχνη τ
 ους; Η ύπαρξη κοινών ιερών τόπων είναι έν
  φαινόμενο με βαθιές ρίζες στη[..]\nhttps://dimit
 ria.thessaloniki.gr/events/test-event-5/
URL:https://dimitria.thessaloniki.gr/events/test-event-5/
END:VEVENT
END:VCALENDAR