BEGIN:VCALENDAR
VERSION:2.0
PRODID:-//eventon.com NONSGML v1.0//EN
CALSCALE:GREGORIAN
METHOD:PUBLISH
BEGIN:VEVENT
UID:69e755c5ad934
DTSTAMP:20260421T104733Z
DTSTART:20171001T210000Z
DTEND:20171001T235000Z
LOCATION:ΘΕΑΤΡΟ ΕΤΑΙΡΕΙΑΣ ΜΑΚΕΔΟΝΙΚΩΝ ΣΠΟΥΔΩΝ
SUMMARY:ΘΕΙΑ ΚΩΜΩΔΙΑ ΤΟΥ ΔΑΝΤΗ
DESCRIPTION:Οι κριτικές κάνουν λόγο για μια «θ
 ησκευτικού τύπου εμπειρία που τη ζεις με
  όλες σου τις αισθήσεις»\,  και όλα τα συστ
 ατικά της παράστασης η οποία μεταφέρει γ
 α πρώτη φορά στην ελληνική σκηνή την τρι
 ογία του Δάντη\,  υπόσχονται ένα ολοκληρω
 μένο έργο τέχνης το οποίο υιοθετεί τη μου
 σική\,  το λόγο και το[..]\nhttps://dimitria.thessaloniki.gr
 /events/test-event/
URL:https://dimitria.thessaloniki.gr/events/test-event/
END:VEVENT
END:VCALENDAR